Package: a4Base Version: 1.56.0 Command: /Library/Frameworks/R.framework/Resources/bin/R CMD INSTALL a4Base StartedAt: 2025-10-13 16:29:06 -0400 (Mon, 13 Oct 2025) EndedAt: 2025-10-13 16:29:51 -0400 (Mon, 13 Oct 2025) EllapsedTime: 45.4 seconds RetCode: 0 Status: OK