Package: a4Base Version: 1.56.0 Command: /Library/Frameworks/R.framework/Resources/bin/R CMD build --keep-empty-dirs --no-resave-data a4Base StartedAt: 2025-10-13 16:58:39 -0400 (Mon, 13 Oct 2025) EndedAt: 2025-10-13 16:58:42 -0400 (Mon, 13 Oct 2025) EllapsedTime: 2.3 seconds RetCode: 0 Status: OK PackageFile: a4Base_1.56.0.tar.gz PackageFileSize: 366.6 KiB