Package: a4Base Version: 1.56.0 Command: /Library/Frameworks/R.framework/Resources/bin/R CMD INSTALL a4Base StartedAt: 2025-04-21 15:37:37 -0400 (Mon, 21 Apr 2025) EndedAt: 2025-04-21 15:38:05 -0400 (Mon, 21 Apr 2025) EllapsedTime: 28.5 seconds RetCode: 0 Status: OK