Package: a4Base Version: 1.56.0 Command: /home/biocbuild/R/R/bin/R CMD INSTALL a4Base StartedAt: 2025-10-13 21:06:26 -0000 (Mon, 13 Oct 2025) EndedAt: 2025-10-13 21:06:54 -0000 (Mon, 13 Oct 2025) EllapsedTime: 28.6 seconds RetCode: 0 Status: OK