Package: YAPSA Version: 1.34.0 Command: /home/biocbuild/R/R/bin/R CMD INSTALL YAPSA StartedAt: 2025-10-13 21:06:19 -0000 (Mon, 13 Oct 2025) EndedAt: 2025-10-13 21:07:46 -0000 (Mon, 13 Oct 2025) EllapsedTime: 87.6 seconds RetCode: 0 Status: OK