Package: YAPSA Version: 1.34.0 Command: /home/biocbuild/R/R/bin/R CMD build --keep-empty-dirs --no-resave-data YAPSA StartedAt: 2025-10-14 05:47:06 -0000 (Tue, 14 Oct 2025) EndedAt: 2025-10-14 05:52:06 -0000 (Tue, 14 Oct 2025) EllapsedTime: 300.9 seconds RetCode: 0 Status: OK PackageFile: YAPSA_1.34.0.tar.gz PackageFileSize: 4.047 MiB