Package: XeniumIO Version: 1.0.0 Command: /home/biocbuild/bbs-3.21-bioc/R/bin/R CMD INSTALL XeniumIO StartedAt: 2025-10-15 15:35:37 -0400 (Wed, 15 Oct 2025) EndedAt: 2025-10-15 15:36:02 -0400 (Wed, 15 Oct 2025) EllapsedTime: 25.4 seconds RetCode: 0 Status: OK