Package: XeniumIO Version: 1.0.0 Command: /home/biocbuild/bbs-3.21-bioc/R/bin/R CMD build --keep-empty-dirs --no-resave-data XeniumIO StartedAt: 2025-10-15 20:32:45 -0400 (Wed, 15 Oct 2025) EndedAt: 2025-10-15 20:33:25 -0400 (Wed, 15 Oct 2025) EllapsedTime: 40.0 seconds RetCode: 0 Status: OK PackageFile: XeniumIO_1.0.0.tar.gz PackageFileSize: 228.9 KiB