Package: XeniumIO Version: 1.0.0 Command: /Library/Frameworks/R.framework/Resources/bin/R CMD INSTALL XeniumIO StartedAt: 2025-10-13 16:06:30 -0400 (Mon, 13 Oct 2025) EndedAt: 2025-10-13 16:07:23 -0400 (Mon, 13 Oct 2025) EllapsedTime: 53.6 seconds RetCode: 0 Status: OK