Package: XeniumIO Version: 1.0.0 Command: rm -rf XeniumIO.buildbin-libdir && mkdir XeniumIO.buildbin-libdir && /Users/biocbuild/BBS/utils/build-universal.sh XeniumIO_1.0.0.tar.gz /Library/Frameworks/R.framework/Resources/bin/R XeniumIO.buildbin-libdir StartedAt: 2025-10-14 15:04:04 -0400 (Tue, 14 Oct 2025) EndedAt: 2025-10-14 15:05:05 -0400 (Tue, 14 Oct 2025) EllapsedTime: 61.7 seconds RetCode: 0 Status: OK PackageFile: XeniumIO_1.0.0.tgz PackageFileSize: 273.8 KiB