Package: XeniumIO Version: 1.0.0 Command: /Library/Frameworks/R.framework/Resources/bin/R CMD INSTALL XeniumIO StartedAt: 2025-10-13 16:36:29 -0400 (Mon, 13 Oct 2025) EndedAt: 2025-10-13 16:37:00 -0400 (Mon, 13 Oct 2025) EllapsedTime: 30.8 seconds RetCode: 0 Status: OK