Package: XeniumIO Version: 1.0.0 Command: rm -rf XeniumIO.buildbin-libdir && mkdir XeniumIO.buildbin-libdir && /Users/biocbuild/BBS/utils/build-universal.sh XeniumIO_1.0.0.tar.gz /Library/Frameworks/R.framework/Resources/bin/R XeniumIO.buildbin-libdir StartedAt: 2025-10-15 21:02:38 -0400 (Wed, 15 Oct 2025) EndedAt: 2025-10-15 21:03:12 -0400 (Wed, 15 Oct 2025) EllapsedTime: 34.0 seconds RetCode: 0 Status: OK PackageFile: XeniumIO_1.0.0.tgz PackageFileSize: 273.8 KiB