Package: XNAString Version: 1.16.0 Command: /home/biocbuild/bbs-3.21-bioc/R/bin/R CMD INSTALL XNAString StartedAt: 2025-10-15 15:49:04 -0400 (Wed, 15 Oct 2025) EndedAt: 2025-10-15 15:49:09 -0400 (Wed, 15 Oct 2025) EllapsedTime: 5.3 seconds RetCode: 1 Status: ERROR