Package: XNAString Version: 1.16.0 Command: /home/biocbuild/bbs-3.21-bioc/R/bin/R CMD build --keep-empty-dirs --no-resave-data XNAString StartedAt: 2025-10-15 20:33:44 -0400 (Wed, 15 Oct 2025) EndedAt: 2025-10-15 20:33:49 -0400 (Wed, 15 Oct 2025) EllapsedTime: 5.0 seconds RetCode: 1 Status: ERROR PackageFile: None PackageFileSize: NA