Package: XNAString Version: 1.16.0 Command: /home/biocbuild/R/R/bin/R CMD INSTALL XNAString StartedAt: 2025-10-13 21:07:19 -0000 (Mon, 13 Oct 2025) EndedAt: 2025-10-13 21:07:26 -0000 (Mon, 13 Oct 2025) EllapsedTime: 7.5 seconds RetCode: 1 Status: ERROR