Package: XNAString Version: 1.16.0 Command: /Library/Frameworks/R.framework/Resources/bin/R CMD INSTALL XNAString StartedAt: 2025-10-13 17:59:02 -0400 (Mon, 13 Oct 2025) EndedAt: 2025-10-13 17:59:08 -0400 (Mon, 13 Oct 2025) EllapsedTime: 5.7 seconds RetCode: 1 Status: ERROR