Package: XNAString Version: 1.16.0 Command: /Library/Frameworks/R.framework/Resources/bin/R CMD build --keep-empty-dirs --no-resave-data XNAString StartedAt: 2025-10-14 12:04:09 -0400 (Tue, 14 Oct 2025) EndedAt: 2025-10-14 12:04:16 -0400 (Tue, 14 Oct 2025) EllapsedTime: 6.7 seconds RetCode: 1 Status: ERROR PackageFile: None PackageFileSize: NA