Package: VplotR Version: 1.18.0 Command: /home/biocbuild/R/R/bin/R CMD INSTALL VplotR StartedAt: 2025-10-13 21:06:35 -0000 (Mon, 13 Oct 2025) EndedAt: 2025-10-13 21:07:18 -0000 (Mon, 13 Oct 2025) EllapsedTime: 42.6 seconds RetCode: 0 Status: OK