Package: VplotR Version: 1.18.0 Command: rm -rf VplotR.buildbin-libdir && mkdir VplotR.buildbin-libdir && /Users/biocbuild/BBS/utils/build-universal.sh VplotR_1.18.0.tar.gz /Library/Frameworks/R.framework/Resources/bin/R VplotR.buildbin-libdir StartedAt: 2025-10-15 21:00:45 -0400 (Wed, 15 Oct 2025) EndedAt: 2025-10-15 21:01:25 -0400 (Wed, 15 Oct 2025) EllapsedTime: 39.4 seconds RetCode: 0 Status: OK PackageFile: VplotR_1.18.0.tgz PackageFileSize: 5.277 MiB