Package: VisiumIO Version: 1.4.3 Command: /home/biocbuild/R/R/bin/R CMD build --keep-empty-dirs --no-resave-data VisiumIO StartedAt: 2025-10-14 05:39:54 -0000 (Tue, 14 Oct 2025) EndedAt: 2025-10-14 05:40:53 -0000 (Tue, 14 Oct 2025) EllapsedTime: 59.0 seconds RetCode: 0 Status: OK PackageFile: VisiumIO_1.4.3.tar.gz PackageFileSize: 1.531 MiB