Package: VariantTools Version: 1.50.0 Command: /home/biocbuild/bbs-3.21-bioc/R/bin/R CMD build --keep-empty-dirs --no-resave-data VariantTools StartedAt: 2025-10-15 20:27:42 -0400 (Wed, 15 Oct 2025) EndedAt: 2025-10-15 20:28:53 -0400 (Wed, 15 Oct 2025) EllapsedTime: 71.1 seconds RetCode: 0 Status: OK PackageFile: VariantTools_1.50.0.tar.gz PackageFileSize: 5.968 MiB