Package: VariantTools Version: 1.50.0 Command: /Library/Frameworks/R.framework/Resources/bin/R CMD build --keep-empty-dirs --no-resave-data VariantTools StartedAt: 2025-10-14 11:42:18 -0400 (Tue, 14 Oct 2025) EndedAt: 2025-10-14 11:43:31 -0400 (Tue, 14 Oct 2025) EllapsedTime: 72.9 seconds RetCode: 0 Status: OK PackageFile: VariantTools_1.50.0.tar.gz PackageFileSize: 5.968 MiB