Package: VariantExperiment Version: 1.22.0 Command: /home/biocbuild/bbs-3.21-bioc/R/bin/R CMD INSTALL VariantExperiment StartedAt: 2025-10-15 15:24:05 -0400 (Wed, 15 Oct 2025) EndedAt: 2025-10-15 15:24:31 -0400 (Wed, 15 Oct 2025) EllapsedTime: 25.1 seconds RetCode: 0 Status: OK