Package: VariantExperiment Version: 1.22.0 Command: /home/biocbuild/bbs-3.21-bioc/R/bin/R CMD build --keep-empty-dirs --no-resave-data VariantExperiment StartedAt: 2025-10-15 20:27:20 -0400 (Wed, 15 Oct 2025) EndedAt: 2025-10-15 20:28:05 -0400 (Wed, 15 Oct 2025) EllapsedTime: 45.0 seconds RetCode: 0 Status: OK PackageFile: VariantExperiment_1.22.0.tar.gz PackageFileSize: 326.5 KiB