Package: VariantExperiment Version: 1.22.0 Command: /home/biocbuild/R/R/bin/R CMD INSTALL VariantExperiment StartedAt: 2025-10-13 20:38:22 -0000 (Mon, 13 Oct 2025) EndedAt: 2025-10-13 20:38:56 -0000 (Mon, 13 Oct 2025) EllapsedTime: 34.5 seconds RetCode: 0 Status: OK