Package: VariantExperiment Version: 1.22.0 Command: /home/biocbuild/R/R/bin/R CMD build --keep-empty-dirs --no-resave-data VariantExperiment StartedAt: 2025-10-14 05:37:29 -0000 (Tue, 14 Oct 2025) EndedAt: 2025-10-14 05:38:34 -0000 (Tue, 14 Oct 2025) EllapsedTime: 65.1 seconds RetCode: 0 Status: OK PackageFile: VariantExperiment_1.22.0.tar.gz PackageFileSize: 394.5 KiB