Package: VariantAnnotation Version: 1.54.1 Command: /home/biocbuild/bbs-3.21-bioc/R/bin/R CMD INSTALL VariantAnnotation StartedAt: 2025-10-15 15:38:10 -0400 (Wed, 15 Oct 2025) EndedAt: 2025-10-15 15:39:19 -0400 (Wed, 15 Oct 2025) EllapsedTime: 69.3 seconds RetCode: 0 Status: OK