Package: VariantAnnotation Version: 1.54.1 Command: /home/biocbuild/bbs-3.21-bioc/R/bin/R CMD check --install=check:VariantAnnotation.install-out.txt --library=/home/biocbuild/bbs-3.21-bioc/R/site-library --timings VariantAnnotation_1.54.1.tar.gz StartedAt: 2025-10-16 04:42:24 -0400 (Thu, 16 Oct 2025) EndedAt: 2025-10-16 04:51:49 -0400 (Thu, 16 Oct 2025) EllapsedTime: 564.7 seconds RetCode: 0 Status: WARNINGS CheckDir: VariantAnnotation.Rcheck Warnings: 2