Package: VariantAnnotation Version: 1.54.1 Command: /home/biocbuild/R/R/bin/R CMD INSTALL VariantAnnotation StartedAt: 2025-10-13 20:53:56 -0000 (Mon, 13 Oct 2025) EndedAt: 2025-10-13 20:55:38 -0000 (Mon, 13 Oct 2025) EllapsedTime: 102.7 seconds RetCode: 0 Status: OK