Package: VariantAnnotation Version: 1.54.1 Command: /Library/Frameworks/R.framework/Resources/bin/R CMD INSTALL VariantAnnotation StartedAt: 2025-10-13 17:13:11 -0400 (Mon, 13 Oct 2025) EndedAt: 2025-10-13 17:14:35 -0400 (Mon, 13 Oct 2025) EllapsedTime: 84.5 seconds RetCode: 0 Status: OK