Package: VariantAnnotation Version: 1.54.1 Command: /Library/Frameworks/R.framework/Resources/bin/R CMD check --install=check:VariantAnnotation.install-out.txt --library=/Library/Frameworks/R.framework/Resources/library --no-vignettes --timings VariantAnnotation_1.54.1.tar.gz StartedAt: 2025-10-15 16:24:45 -0400 (Wed, 15 Oct 2025) EndedAt: 2025-10-15 16:33:23 -0400 (Wed, 15 Oct 2025) EllapsedTime: 518.7 seconds RetCode: 0 Status: WARNINGS CheckDir: VariantAnnotation.Rcheck Warnings: 2