Package: VarCon Version: 1.16.0 Command: /home/biocbuild/R/R/bin/R CMD build --keep-empty-dirs --no-resave-data VarCon StartedAt: 2025-10-14 05:36:43 -0000 (Tue, 14 Oct 2025) EndedAt: 2025-10-14 05:37:58 -0000 (Tue, 14 Oct 2025) EllapsedTime: 75.1 seconds RetCode: 0 Status: OK PackageFile: VarCon_1.16.0.tar.gz PackageFileSize: 1.915 MiB