Package: VarCon Version: 1.16.0 Command: /Library/Frameworks/R.framework/Resources/bin/R CMD INSTALL VarCon StartedAt: 2025-10-13 16:53:31 -0400 (Mon, 13 Oct 2025) EndedAt: 2025-10-13 16:54:18 -0400 (Mon, 13 Oct 2025) EllapsedTime: 46.6 seconds RetCode: 0 Status: OK