Package: VarCon Version: 1.16.0 Command: /Library/Frameworks/R.framework/Resources/bin/R CMD build --keep-empty-dirs --no-resave-data VarCon StartedAt: 2025-10-14 11:38:32 -0400 (Tue, 14 Oct 2025) EndedAt: 2025-10-14 11:39:41 -0400 (Tue, 14 Oct 2025) EllapsedTime: 68.2 seconds RetCode: 0 Status: OK PackageFile: VarCon_1.16.0.tar.gz PackageFileSize: 1.89 MiB