Package: VaSP Version: 1.20.0 Command: /home/biocbuild/R/R/bin/R CMD build --keep-empty-dirs --no-resave-data VaSP StartedAt: 2025-10-14 05:38:13 -0000 (Tue, 14 Oct 2025) EndedAt: 2025-10-14 05:39:20 -0000 (Tue, 14 Oct 2025) EllapsedTime: 67.0 seconds RetCode: 0 Status: OK PackageFile: VaSP_1.20.0.tar.gz PackageFileSize: 8.456 MiB