Package: VaSP Version: 1.20.0 Command: rm -rf VaSP.buildbin-libdir && mkdir VaSP.buildbin-libdir && /Users/biocbuild/BBS/utils/build-universal.sh VaSP_1.20.0.tar.gz /Library/Frameworks/R.framework/Resources/bin/R VaSP.buildbin-libdir StartedAt: 2025-04-21 22:56:20 -0400 (Mon, 21 Apr 2025) EndedAt: 2025-04-21 22:56:37 -0400 (Mon, 21 Apr 2025) EllapsedTime: 16.4 seconds RetCode: 0 Status: OK PackageFile: VaSP_1.20.0.tgz PackageFileSize: 5.731 MiB