Package: VCFArray Version: 1.24.0 Command: /home/biocbuild/bbs-3.21-bioc/R/bin/R CMD check --install=check:VCFArray.install-out.txt --library=/home/biocbuild/bbs-3.21-bioc/R/site-library --timings VCFArray_1.24.0.tar.gz StartedAt: 2025-10-16 04:43:52 -0400 (Thu, 16 Oct 2025) EndedAt: 2025-10-16 04:49:08 -0400 (Thu, 16 Oct 2025) EllapsedTime: 315.4 seconds RetCode: 0 Status: OK CheckDir: VCFArray.Rcheck Warnings: 0