Package: VCFArray Version: 1.24.0 Command: /home/biocbuild/bbs-3.21-bioc/R/bin/R CMD build --keep-empty-dirs --no-resave-data VCFArray StartedAt: 2025-10-15 20:28:05 -0400 (Wed, 15 Oct 2025) EndedAt: 2025-10-15 20:29:15 -0400 (Wed, 15 Oct 2025) EllapsedTime: 70.1 seconds RetCode: 0 Status: OK PackageFile: VCFArray_1.24.0.tar.gz PackageFileSize: 302.7 KiB