Package: VCFArray Version: 1.24.0 Command: /Library/Frameworks/R.framework/Resources/bin/R CMD build --keep-empty-dirs --no-resave-data VCFArray StartedAt: 2025-10-13 23:29:36 -0400 (Mon, 13 Oct 2025) EndedAt: 2025-10-13 23:32:22 -0400 (Mon, 13 Oct 2025) EllapsedTime: 166.2 seconds RetCode: 0 Status: OK PackageFile: VCFArray_1.24.0.tar.gz PackageFileSize: 302.6 KiB