Package: VCFArray Version: 1.24.0 Command: rm -rf VCFArray.buildbin-libdir && mkdir VCFArray.buildbin-libdir && /Users/biocbuild/BBS/utils/build-universal.sh VCFArray_1.24.0.tar.gz /Library/Frameworks/R.framework/Resources/bin/R VCFArray.buildbin-libdir StartedAt: 2025-10-14 15:01:59 -0400 (Tue, 14 Oct 2025) EndedAt: 2025-10-14 15:04:04 -0400 (Tue, 14 Oct 2025) EllapsedTime: 124.5 seconds RetCode: 0 Status: OK PackageFile: VCFArray_1.24.0.tgz PackageFileSize: 1.042 MiB