Package: VCFArray Version: 1.24.0 Command: /Library/Frameworks/R.framework/Resources/bin/R CMD INSTALL VCFArray StartedAt: 2025-10-13 18:24:57 -0400 (Mon, 13 Oct 2025) EndedAt: 2025-10-13 18:25:48 -0400 (Mon, 13 Oct 2025) EllapsedTime: 51.0 seconds RetCode: 0 Status: OK