Package: VCFArray Version: 1.24.0 Command: /Library/Frameworks/R.framework/Resources/bin/R CMD build --keep-empty-dirs --no-resave-data VCFArray StartedAt: 2025-10-14 11:44:10 -0400 (Tue, 14 Oct 2025) EndedAt: 2025-10-14 11:45:40 -0400 (Tue, 14 Oct 2025) EllapsedTime: 89.7 seconds RetCode: 0 Status: OK PackageFile: VCFArray_1.24.0.tar.gz PackageFileSize: 302.6 KiB