Package: VAExprs Version: 1.14.0 Command: /home/biocbuild/R/R/bin/R CMD build --keep-empty-dirs --no-resave-data VAExprs StartedAt: 2025-10-14 05:36:32 -0000 (Tue, 14 Oct 2025) EndedAt: 2025-10-14 05:39:25 -0000 (Tue, 14 Oct 2025) EllapsedTime: 173.2 seconds RetCode: 0 Status: OK PackageFile: VAExprs_1.14.0.tar.gz PackageFileSize: 587.8 KiB