Package: UniProt.ws Version: 2.48.0 Command: /home/biocbuild/bbs-3.21-bioc/R/bin/R CMD INSTALL UniProt.ws StartedAt: 2025-10-15 15:30:50 -0400 (Wed, 15 Oct 2025) EndedAt: 2025-10-15 15:31:04 -0400 (Wed, 15 Oct 2025) EllapsedTime: 14.2 seconds RetCode: 0 Status: OK