Package: UniProt.ws Version: 2.48.0 Command: /home/biocbuild/R/R/bin/R CMD INSTALL UniProt.ws StartedAt: 2025-10-13 20:46:32 -0000 (Mon, 13 Oct 2025) EndedAt: 2025-10-13 20:46:53 -0000 (Mon, 13 Oct 2025) EllapsedTime: 21.7 seconds RetCode: 0 Status: OK