Package: UniProt.ws Version: 2.48.0 Command: /home/biocbuild/R/R/bin/R CMD build --keep-empty-dirs --no-resave-data UniProt.ws StartedAt: 2025-10-14 05:35:53 -0000 (Tue, 14 Oct 2025) EndedAt: 2025-10-14 05:36:28 -0000 (Tue, 14 Oct 2025) EllapsedTime: 35.0 seconds RetCode: 0 Status: OK PackageFile: UniProt.ws_2.48.0.tar.gz PackageFileSize: 266.8 KiB