Package: UniProt.ws Version: 2.48.0 Command: /Library/Frameworks/R.framework/Resources/bin/R CMD INSTALL UniProt.ws StartedAt: 2025-10-13 15:54:00 -0400 (Mon, 13 Oct 2025) EndedAt: 2025-10-13 15:54:17 -0400 (Mon, 13 Oct 2025) EllapsedTime: 16.6 seconds RetCode: 0 Status: OK