Package: UniProt.ws Version: 2.48.0 Command: /Library/Frameworks/R.framework/Resources/bin/R CMD build --keep-empty-dirs --no-resave-data UniProt.ws StartedAt: 2025-10-14 11:35:46 -0400 (Tue, 14 Oct 2025) EndedAt: 2025-10-14 11:36:17 -0400 (Tue, 14 Oct 2025) EllapsedTime: 30.7 seconds RetCode: 0 Status: OK PackageFile: UniProt.ws_2.48.0.tar.gz PackageFileSize: 240.6 KiB