Package: Ularcirc Version: 1.26.0 Command: /home/biocbuild/bbs-3.21-bioc/R/bin/R CMD INSTALL Ularcirc StartedAt: 2025-10-15 15:39:10 -0400 (Wed, 15 Oct 2025) EndedAt: 2025-10-15 15:39:20 -0400 (Wed, 15 Oct 2025) EllapsedTime: 10.2 seconds RetCode: 0 Status: OK