Package: Ularcirc Version: 1.26.0 Command: /home/biocbuild/R/R/bin/R CMD INSTALL Ularcirc StartedAt: 2025-10-13 20:55:21 -0000 (Mon, 13 Oct 2025) EndedAt: 2025-10-13 20:55:35 -0000 (Mon, 13 Oct 2025) EllapsedTime: 13.6 seconds RetCode: 0 Status: OK